BEGIN:VCALENDAR
VERSION:2.0
PRODID:-//United Front Committee for a Labor Party - ECPv6.15.14//NONSGML v1.0//EN
CALSCALE:GREGORIAN
METHOD:PUBLISH
X-WR-CALNAME:United Front Committee for a Labor Party
X-ORIGINAL-URL:https://ufclp.org
X-WR-CALDESC:Events for United Front Committee for a Labor Party
REFRESH-INTERVAL;VALUE=DURATION:PT1H
X-Robots-Tag:noindex
X-PUBLISHED-TTL:PT1H
BEGIN:VTIMEZONE
TZID:America/Los_Angeles
BEGIN:DAYLIGHT
TZOFFSETFROM:-0800
TZOFFSETTO:-0700
TZNAME:PDT
DTSTART:20220313T100000
END:DAYLIGHT
BEGIN:STANDARD
TZOFFSETFROM:-0700
TZOFFSETTO:-0800
TZNAME:PST
DTSTART:20221106T090000
END:STANDARD
BEGIN:DAYLIGHT
TZOFFSETFROM:-0800
TZOFFSETTO:-0700
TZNAME:PDT
DTSTART:20230312T100000
END:DAYLIGHT
BEGIN:STANDARD
TZOFFSETFROM:-0700
TZOFFSETTO:-0800
TZNAME:PST
DTSTART:20231105T090000
END:STANDARD
BEGIN:DAYLIGHT
TZOFFSETFROM:-0800
TZOFFSETTO:-0700
TZNAME:PDT
DTSTART:20240310T100000
END:DAYLIGHT
BEGIN:STANDARD
TZOFFSETFROM:-0700
TZOFFSETTO:-0800
TZNAME:PST
DTSTART:20241103T090000
END:STANDARD
END:VTIMEZONE
BEGIN:VEVENT
DTSTART;TZID=America/Los_Angeles:20230202T150000
DTEND;TZID=America/Los_Angeles:20230202T160000
DTSTAMP:20260420T171917
CREATED:20230202T200721Z
LAST-MODIFIED:20230202T201122Z
UID:973-1675350000-1675353600@ufclp.org
SUMMARY:Stop The Discharges At Laguna Honda Hospital Discharges = Deaths
DESCRIPTION:Despite unanimous opposition from the community and labor to the continued discharge of patients at San Francisco City’s Laguna Honda Hospital\, Mayor London Breed and her hand-picked San Francisco Department of Public Health commissioners have decided that discharges will start again on February 3\, 2023. It was only announced yesterday that they will be postponed until May 19th when the discharges will start again. This further terrorizes the patients and residents. \nThese discharges have already killed 12 patients of the Hospital. Further discharges will lead directly to more deaths\, and they have been warned at DPH hearings. Nursing home workers are already overloaded with patients and not prepared for many of the fragile residents and patients at Laguna Honda. \nThe SF Board of Supervisors have also refused to stop the discharges\, and Supervisor Mandelman wants to shut down debate by ending hybrid meetings where disabled\, community\, and labor members can participate remotely. \n\n\n\nThe fact is that there are not enough healthcare facilities like Laguna Honda. This same Board\, and the Department of Public Health director Colfax knew that patients who needed care were being discharged despite needing the care at Laguna Honda. This board and DPH Director Colfax need to be held responsible for these deaths\, and Mayor London Breed and the Board of Supervisors must STOP THIS NOW or be held responsible for any further deaths resulting from discharges. \n\n\n\nWe demand that Newsom and the State Department of Public Health along with US Secretary of Health & Human Services Xavier Becerra put a halt to these discharges. The Chair of Board Dan Bernal is the Chief of Staff for Nancy Pelosi and yet they are allowing the discharges to start again. Behind this is the drive to privatize the hospital and sell of the land for luxury condos which developers are already planning for. This also a boon for the private nursing home industry which Gavin Newsom and his state agencies refusing  to properly regulate and provide oversight of these nursing homes. \nWe need to stop the privatization of public health system and demand that nursing homes be run properly by the public without billionaires cutting costs for more profits. The outsourcing to consultants and the expenditures of over 56 million dollars as well has not been transparent\, and instead of bringing in professionals\, they are wasting more money by not hiring professionals as city employees to do the job. \nBring your community members and union brothers and sisters and bring your signs & banners to this speak out.  \n\n\n\n\n\nNo Discharges\, End The Secrecy By Department of Public Health Labor and Community United To Protect Laguna Honda Hospital \nSupported by: Brenda Barros\, SEIU 1021 SF General Hospital Chapter President\, Cheryl Thornton\, SEIU 1021 Community Healthcare Chapter Vice Chair\, United Public Workers For Action\, UPTE-CWA 9119 \n\n\n\n\nUnited Front Committee for A Labor Party (info@ufclp.org) (www.ufclp) 
URL:https://ufclp.org/event/stop-the-discharges-at-laguna-honda-hospital-discharges-deaths/
LOCATION:Laguna Honda Hospital\, 375 Laguna Honda Blvd\, San Francisco\, CA\, United States
CATEGORIES:Nurses
END:VEVENT
END:VCALENDAR